BEGIN:VCALENDAR
VERSION:2.0
PRODID:-//Egersund Seilforening - ECPv6.15.20//NONSGML v1.0//EN
CALSCALE:GREGORIAN
METHOD:PUBLISH
X-WR-CALNAME:Egersund Seilforening
X-ORIGINAL-URL:https://egersundseilforening.no
X-WR-CALDESC:Arrangement for Egersund Seilforening
REFRESH-INTERVAL;VALUE=DURATION:PT1H
X-Robots-Tag:noindex
X-PUBLISHED-TTL:PT1H
BEGIN:VTIMEZONE
TZID:Europe/Oslo
BEGIN:DAYLIGHT
TZOFFSETFROM:+0100
TZOFFSETTO:+0200
TZNAME:CEST
DTSTART:20220327T010000
END:DAYLIGHT
BEGIN:STANDARD
TZOFFSETFROM:+0200
TZOFFSETTO:+0100
TZNAME:CET
DTSTART:20221030T010000
END:STANDARD
BEGIN:DAYLIGHT
TZOFFSETFROM:+0100
TZOFFSETTO:+0200
TZNAME:CEST
DTSTART:20230326T010000
END:DAYLIGHT
BEGIN:STANDARD
TZOFFSETFROM:+0200
TZOFFSETTO:+0100
TZNAME:CET
DTSTART:20231029T010000
END:STANDARD
BEGIN:DAYLIGHT
TZOFFSETFROM:+0100
TZOFFSETTO:+0200
TZNAME:CEST
DTSTART:20240331T010000
END:DAYLIGHT
BEGIN:STANDARD
TZOFFSETFROM:+0200
TZOFFSETTO:+0100
TZNAME:CET
DTSTART:20241027T010000
END:STANDARD
BEGIN:DAYLIGHT
TZOFFSETFROM:+0100
TZOFFSETTO:+0200
TZNAME:CEST
DTSTART:20250330T010000
END:DAYLIGHT
BEGIN:STANDARD
TZOFFSETFROM:+0200
TZOFFSETTO:+0100
TZNAME:CET
DTSTART:20251026T010000
END:STANDARD
BEGIN:DAYLIGHT
TZOFFSETFROM:+0100
TZOFFSETTO:+0200
TZNAME:CEST
DTSTART:20260329T010000
END:DAYLIGHT
BEGIN:STANDARD
TZOFFSETFROM:+0200
TZOFFSETTO:+0100
TZNAME:CET
DTSTART:20261025T010000
END:STANDARD
BEGIN:DAYLIGHT
TZOFFSETFROM:+0100
TZOFFSETTO:+0200
TZNAME:CEST
DTSTART:20270328T010000
END:DAYLIGHT
BEGIN:STANDARD
TZOFFSETFROM:+0200
TZOFFSETTO:+0100
TZNAME:CET
DTSTART:20271031T010000
END:STANDARD
BEGIN:DAYLIGHT
TZOFFSETFROM:+0100
TZOFFSETTO:+0200
TZNAME:CEST
DTSTART:20280326T010000
END:DAYLIGHT
BEGIN:STANDARD
TZOFFSETFROM:+0200
TZOFFSETTO:+0100
TZNAME:CET
DTSTART:20281029T010000
END:STANDARD
BEGIN:DAYLIGHT
TZOFFSETFROM:+0100
TZOFFSETTO:+0200
TZNAME:CEST
DTSTART:20290325T010000
END:DAYLIGHT
BEGIN:STANDARD
TZOFFSETFROM:+0200
TZOFFSETTO:+0100
TZNAME:CET
DTSTART:20291028T010000
END:STANDARD
END:VTIMEZONE
BEGIN:VEVENT
DTSTART;TZID=Europe/Oslo:20280514T080000
DTEND;TZID=Europe/Oslo:20280514T080000
DTSTAMP:20260419T152944
CREATED:20210104T082515Z
LAST-MODIFIED:20210104T082515Z
UID:4957-1841904000-1841904000@egersundseilforening.no
SUMMARY:Ronny Myklebust
DESCRIPTION:Privat arrangment klubbhus
URL:https://egersundseilforening.no/aktivitetskalenderklubbhus/ronny-myklebust-3/
LOCATION:Nysundhalsen Seilsportsenter\, Gamle Eigerøyveien 100\, Egersund\, Rogaland\, 4373\, Norge
END:VEVENT
BEGIN:VEVENT
DTSTART;TZID=Europe/Oslo:20250511T080000
DTEND;TZID=Europe/Oslo:20250511T190000
DTSTAMP:20260419T152944
CREATED:20210915T195720Z
LAST-MODIFIED:20210915T195720Z
UID:5478-1746950400-1746990000@egersundseilforening.no
SUMMARY:Ronny Myklebust
DESCRIPTION:Konf
URL:https://egersundseilforening.no/aktivitetskalenderklubbhus/ronny-myklebust-4/
LOCATION:Nysundhalsen Seilsportsenter\, Gamle Eigerøyveien 100\, Egersund\, Rogaland\, 4373\, Norge
END:VEVENT
BEGIN:VEVENT
DTSTART;TZID=Europe/Oslo:20250511T080000
DTEND;TZID=Europe/Oslo:20250511T080000
DTSTAMP:20260419T152944
CREATED:20210104T082421Z
LAST-MODIFIED:20210104T082421Z
UID:4955-1746950400-1746950400@egersundseilforening.no
SUMMARY:Ronny Myklebust
DESCRIPTION:Privat arrangment klubbhus
URL:https://egersundseilforening.no/aktivitetskalenderklubbhus/ronny-myklebust-2/
LOCATION:Nysundhalsen Seilsportsenter\, Gamle Eigerøyveien 100\, Egersund\, Rogaland\, 4373\, Norge
END:VEVENT
BEGIN:VEVENT
DTSTART;TZID=Europe/Oslo:20240907T080000
DTEND;TZID=Europe/Oslo:20240907T233000
DTSTAMP:20260419T152944
CREATED:20240104T064121Z
LAST-MODIFIED:20240104T064121Z
UID:6053-1725696000-1725751800@egersundseilforening.no
SUMMARY:Privat arrangement
DESCRIPTION:Eirin Roaldsen
URL:https://egersundseilforening.no/aktivitetskalenderklubbhus/privat-arrangement-5/
END:VEVENT
BEGIN:VEVENT
DTSTART;TZID=Europe/Oslo:20240803T080000
DTEND;TZID=Europe/Oslo:20240803T233000
DTSTAMP:20260419T152944
CREATED:20240104T064042Z
LAST-MODIFIED:20240104T064042Z
UID:6051-1722672000-1722727800@egersundseilforening.no
SUMMARY:Privat arrangement
DESCRIPTION:Eva Fagerheim
URL:https://egersundseilforening.no/aktivitetskalenderklubbhus/privat-arrangement-4/
END:VEVENT
BEGIN:VEVENT
DTSTART;TZID=Europe/Oslo:20240622T080000
DTEND;TZID=Europe/Oslo:20240622T233000
DTSTAMP:20260419T152944
CREATED:20240104T063948Z
LAST-MODIFIED:20240104T063948Z
UID:6049-1719043200-1719099000@egersundseilforening.no
SUMMARY:Aker Solutions Bedriftsarrangement
DESCRIPTION:
URL:https://egersundseilforening.no/aktivitetskalenderklubbhus/aker-solutions-bedriftsarrangement/
END:VEVENT
BEGIN:VEVENT
DTSTART;TZID=Europe/Oslo:20240602T080000
DTEND;TZID=Europe/Oslo:20240602T210000
DTSTAMP:20260419T152944
CREATED:20240129T154632Z
LAST-MODIFIED:20240129T154632Z
UID:6067-1717315200-1717362000@egersundseilforening.no
SUMMARY:Privat arrangement
DESCRIPTION:Tor Egil Nummedal – klubbhuset
URL:https://egersundseilforening.no/aktivitetskalenderklubbhus/privat-arrangement-6/
LOCATION:Nysundhalsen Seilsportsenter\, Gamle Eigerøyveien 100\, Egersund\, Rogaland\, 4373\, Norge
END:VEVENT
BEGIN:VEVENT
DTSTART;TZID=Europe/Oslo:20240529T170000
DTEND;TZID=Europe/Oslo:20240529T190000
DTSTAMP:20260419T152944
CREATED:20240408T053839Z
LAST-MODIFIED:20240408T053839Z
UID:6263-1717002000-1717009200@egersundseilforening.no
SUMMARY:Seilkurs
DESCRIPTION:
URL:https://egersundseilforening.no/aktivitetskalenderklubbhus/seilkurs-10/
END:VEVENT
BEGIN:VEVENT
DTSTART;TZID=Europe/Oslo:20240522T170000
DTEND;TZID=Europe/Oslo:20240522T190000
DTSTAMP:20260419T152944
CREATED:20240408T053807Z
LAST-MODIFIED:20240408T053807Z
UID:6261-1716397200-1716404400@egersundseilforening.no
SUMMARY:Seilkurs
DESCRIPTION:
URL:https://egersundseilforening.no/aktivitetskalenderklubbhus/seilkurs-9/
END:VEVENT
BEGIN:VEVENT
DTSTART;TZID=Europe/Oslo:20240515T170000
DTEND;TZID=Europe/Oslo:20240515T190000
DTSTAMP:20260419T152944
CREATED:20240408T053741Z
LAST-MODIFIED:20240408T053741Z
UID:6258-1715792400-1715799600@egersundseilforening.no
SUMMARY:Seilkurs
DESCRIPTION:
URL:https://egersundseilforening.no/aktivitetskalenderklubbhus/seilkurs-8/
END:VEVENT
BEGIN:VEVENT
DTSTART;TZID=Europe/Oslo:20240515T170000
DTEND;TZID=Europe/Oslo:20240515T190000
DTSTAMP:20260419T152944
CREATED:20240408T053714Z
LAST-MODIFIED:20240408T053714Z
UID:6256-1715792400-1715799600@egersundseilforening.no
SUMMARY:Seilkurs
DESCRIPTION:
URL:https://egersundseilforening.no/aktivitetskalenderklubbhus/seilkurs-7/
END:VEVENT
BEGIN:VEVENT
DTSTART;TZID=Europe/Oslo:20240514T180000
DTEND;TZID=Europe/Oslo:20240514T210000
DTSTAMP:20260419T152944
CREATED:20240404T063003Z
LAST-MODIFIED:20240404T063003Z
UID:6232-1715709600-1715720400@egersundseilforening.no
SUMMARY:Seilkurs
DESCRIPTION:
URL:https://egersundseilforening.no/aktivitetskalenderklubbhus/seilkurs-5/
LOCATION:Nysundhalsen Seilsportsenter\, Gamle Eigerøyveien 100\, Egersund\, Rogaland\, 4373\, Norge
END:VEVENT
BEGIN:VEVENT
DTSTART;TZID=Europe/Oslo:20240507T180000
DTEND;TZID=Europe/Oslo:20240507T210000
DTSTAMP:20260419T152944
CREATED:20240404T062932Z
LAST-MODIFIED:20240404T062932Z
UID:6230-1715104800-1715115600@egersundseilforening.no
SUMMARY:Seilkurs
DESCRIPTION:
URL:https://egersundseilforening.no/aktivitetskalenderklubbhus/seilkurs-4/
END:VEVENT
BEGIN:VEVENT
DTSTART;TZID=Europe/Oslo:20240430T180000
DTEND;TZID=Europe/Oslo:20240430T210000
DTSTAMP:20260419T152944
CREATED:20240408T053625Z
LAST-MODIFIED:20240408T053625Z
UID:6254-1714500000-1714510800@egersundseilforening.no
SUMMARY:Seilkurs
DESCRIPTION:
URL:https://egersundseilforening.no/aktivitetskalenderklubbhus/seilkurs-6/
END:VEVENT
BEGIN:VEVENT
DTSTART;TZID=Europe/Oslo:20240429T180000
DTEND;TZID=Europe/Oslo:20240429T210000
DTSTAMP:20260419T152944
CREATED:20240404T062834Z
LAST-MODIFIED:20240404T062834Z
UID:6228-1714413600-1714424400@egersundseilforening.no
SUMMARY:Seilkurs
DESCRIPTION:
URL:https://egersundseilforening.no/aktivitetskalenderklubbhus/seilkurs-3/
LOCATION:Nysundhalsen Seilsportsenter\, Gamle Eigerøyveien 100\, Egersund\, Rogaland\, 4373\, Norge
END:VEVENT
BEGIN:VEVENT
DTSTART;TZID=Europe/Oslo:20240427T080000
DTEND;TZID=Europe/Oslo:20240427T230000
DTSTAMP:20260419T152944
CREATED:20240104T063855Z
LAST-MODIFIED:20240104T063855Z
UID:6047-1714204800-1714258800@egersundseilforening.no
SUMMARY:Privat arrangement
DESCRIPTION:Rune Strand
URL:https://egersundseilforening.no/aktivitetskalenderklubbhus/privat-arrangement-3/
END:VEVENT
BEGIN:VEVENT
DTSTART;TZID=Europe/Oslo:20240422T180000
DTEND;TZID=Europe/Oslo:20240422T210000
DTSTAMP:20260419T152944
CREATED:20240404T062801Z
LAST-MODIFIED:20240404T062801Z
UID:6226-1713808800-1713819600@egersundseilforening.no
SUMMARY:Seilkurs
DESCRIPTION:
URL:https://egersundseilforening.no/aktivitetskalenderklubbhus/seilkurs-2/
LOCATION:Nysundhalsen Seilsportsenter\, Gamle Eigerøyveien 100\, Egersund\, Rogaland\, 4373\, Norge
END:VEVENT
BEGIN:VEVENT
DTSTART;VALUE=DATE:20240420
DTEND;VALUE=DATE:20240421
DTSTAMP:20260419T152944
CREATED:20240404T062058Z
LAST-MODIFIED:20240404T062058Z
UID:6222-1713571200-1713657599@egersundseilforening.no
SUMMARY:Dugnad
DESCRIPTION:Dugnad Nysundhalsen og Gjestehavn
URL:https://egersundseilforening.no/aktivitetskalenderklubbhus/dugnad/
LOCATION:Nysundhalsen Seilsportsenter\, Gamle Eigerøyveien 100\, Egersund\, Rogaland\, 4373\, Norge
END:VEVENT
BEGIN:VEVENT
DTSTART;TZID=Europe/Oslo:20240418T180000
DTEND;TZID=Europe/Oslo:20240418T200000
DTSTAMP:20260419T152944
CREATED:20240404T061644Z
LAST-MODIFIED:20240404T061644Z
UID:6220-1713463200-1713470400@egersundseilforening.no
SUMMARY:Båtførerkurs
DESCRIPTION:Klubbhus
URL:https://egersundseilforening.no/aktivitetskalenderklubbhus/batforerkurs-3/
END:VEVENT
BEGIN:VEVENT
DTSTART;TZID=Europe/Oslo:20240417T170000
DTEND;TZID=Europe/Oslo:20240417T210000
DTSTAMP:20260419T152944
CREATED:20240104T063804Z
LAST-MODIFIED:20240104T063804Z
UID:6045-1713373200-1713387600@egersundseilforening.no
SUMMARY:Egersund Båtforening Årsmøte
DESCRIPTION:
URL:https://egersundseilforening.no/aktivitetskalenderklubbhus/egersund-batforening-arsmote/
END:VEVENT
BEGIN:VEVENT
DTSTART;TZID=Europe/Oslo:20240415T180000
DTEND;TZID=Europe/Oslo:20240415T210000
DTSTAMP:20260419T152944
CREATED:20240404T062716Z
LAST-MODIFIED:20240404T062716Z
UID:6224-1713204000-1713214800@egersundseilforening.no
SUMMARY:Seilkurs
DESCRIPTION:
URL:https://egersundseilforening.no/aktivitetskalenderklubbhus/seilkurs/
LOCATION:Nysundhalsen Seilsportsenter\, Gamle Eigerøyveien 100\, Egersund\, Rogaland\, 4373\, Norge
END:VEVENT
BEGIN:VEVENT
DTSTART;TZID=Europe/Oslo:20240411T180000
DTEND;TZID=Europe/Oslo:20240411T200000
DTSTAMP:20260419T152945
CREATED:20240404T061551Z
LAST-MODIFIED:20240404T061551Z
UID:6218-1712858400-1712865600@egersundseilforening.no
SUMMARY:Båtførerkurs
DESCRIPTION:Klubbhus
URL:https://egersundseilforening.no/aktivitetskalenderklubbhus/batforerkurs-2/
END:VEVENT
BEGIN:VEVENT
DTSTART;TZID=Europe/Oslo:20240404T180000
DTEND;TZID=Europe/Oslo:20240404T210000
DTSTAMP:20260419T152945
CREATED:20240404T061445Z
LAST-MODIFIED:20240404T061445Z
UID:6216-1712253600-1712264400@egersundseilforening.no
SUMMARY:Båtførerkurs
DESCRIPTION:Klubbhus
URL:https://egersundseilforening.no/aktivitetskalenderklubbhus/batforerkurs/
LOCATION:Nysundhalsen Seilsportsenter\, Gamle Eigerøyveien 100\, Egersund\, Rogaland\, 4373\, Norge
END:VEVENT
BEGIN:VEVENT
DTSTART;TZID=Europe/Oslo:20240228T080000
DTEND;TZID=Europe/Oslo:20240228T170000
DTSTAMP:20260419T152945
CREATED:20240104T063508Z
LAST-MODIFIED:20240104T063508Z
UID:6041-1709107200-1709139600@egersundseilforening.no
SUMMARY:Årsmøte Undervannsklubben
DESCRIPTION:
URL:https://egersundseilforening.no/aktivitetskalenderklubbhus/arsmote-undervannsklubben-2/
END:VEVENT
BEGIN:VEVENT
DTSTART;TZID=Europe/Oslo:20240222T180000
DTEND;TZID=Europe/Oslo:20240222T233000
DTSTAMP:20260419T152945
CREATED:20240104T064521Z
LAST-MODIFIED:20240104T064521Z
UID:6055-1708624800-1708644600@egersundseilforening.no
SUMMARY:Årsmøte Egersund Seilforening
DESCRIPTION:
URL:https://egersundseilforening.no/aktivitetskalenderklubbhus/arsmote-egersund-seilforening/
LOCATION:Nysundhalsen Seilsportsenter\, Gamle Eigerøyveien 100\, Egersund\, Rogaland\, 4373\, Norge
END:VEVENT
BEGIN:VEVENT
DTSTART;TZID=Europe/Oslo:20240127T080000
DTEND;TZID=Europe/Oslo:20240127T170000
DTSTAMP:20260419T152945
CREATED:20240104T063221Z
LAST-MODIFIED:20240104T063221Z
UID:6039-1706342400-1706374800@egersundseilforening.no
SUMMARY:Julebord
DESCRIPTION:Hele klubbhuset
URL:https://egersundseilforening.no/aktivitetskalenderklubbhus/julebord/
END:VEVENT
BEGIN:VEVENT
DTSTART;TZID=Europe/Oslo:20240112T080000
DTEND;TZID=Europe/Oslo:20240112T230000
DTSTAMP:20260419T152945
CREATED:20240104T063704Z
LAST-MODIFIED:20240104T063704Z
UID:6043-1705046400-1705100400@egersundseilforening.no
SUMMARY:Privat arrangement
DESCRIPTION:Knut Takle
URL:https://egersundseilforening.no/aktivitetskalenderklubbhus/privat-arrangement-2/
END:VEVENT
BEGIN:VEVENT
DTSTART;TZID=Europe/Oslo:20230617T080000
DTEND;TZID=Europe/Oslo:20230617T230000
DTSTAMP:20260419T152945
CREATED:20230425T060420Z
LAST-MODIFIED:20230425T060420Z
UID:5903-1686988800-1687042800@egersundseilforening.no
SUMMARY:Privat arrangement klubbhus
DESCRIPTION:Ingrid
URL:https://egersundseilforening.no/aktivitetskalenderklubbhus/privat-arrangement-klubbhus/
END:VEVENT
BEGIN:VEVENT
DTSTART;TZID=Europe/Oslo:20230527T080000
DTEND;TZID=Europe/Oslo:20230527T233000
DTSTAMP:20260419T152945
CREATED:20230425T060345Z
LAST-MODIFIED:20230425T060745Z
UID:5901-1685174400-1685230200@egersundseilforening.no
SUMMARY:Privat arrangement klubbhus
DESCRIPTION:Åshild
URL:https://egersundseilforening.no/aktivitetskalenderklubbhus/privat-arrangement/
END:VEVENT
BEGIN:VEVENT
DTSTART;TZID=Europe/Oslo:20230514T080000
DTEND;TZID=Europe/Oslo:20230514T170000
DTSTAMP:20260419T152945
CREATED:20230425T060303Z
LAST-MODIFIED:20230425T060303Z
UID:5899-1684051200-1684083600@egersundseilforening.no
SUMMARY:Konfimrasjon
DESCRIPTION:Aakenes
URL:https://egersundseilforening.no/aktivitetskalenderklubbhus/konfimrasjon/
LOCATION:Nysundhalsen Seilsportsenter\, Gamle Eigerøyveien 100\, Egersund\, Rogaland\, 4373\, Norge
END:VEVENT
END:VCALENDAR